BEGIN:VCALENDAR
VERSION:2.0
PRODID:-//A Warm Welcome to the only Branch of National Seniors, Australia on the NSW Central Coast - ECPv4.8.1//NONSGML v1.0//EN
CALSCALE:GREGORIAN
METHOD:PUBLISH
X-WR-CALNAME:A Warm Welcome to the only Branch of National Seniors, Australia on the NSW Central Coast
X-ORIGINAL-URL:http://wyongnationalseniors.org.au
X-WR-CALDESC:Events for A Warm Welcome to the only Branch of National Seniors, Australia on the NSW Central Coast
BEGIN:VEVENT
DTSTART;TZID=Australia/Sydney:20190202T140000
DTEND;TZID=Australia/Sydney:20190202T153000
DTSTAMP:20190228T074940
CREATED:20181122T054732Z
LAST-MODIFIED:20181122T054732Z
UID:2835-1549116000-1549121400@wyongnationalseniors.org.au
SUMMARY:Enoy a Saturday afternoon at The Wyong Arthouse
DESCRIPTION:John Wood\, Benita Collings and Max Gillies are having some Senior Moments\, with Geoff Harvey on piano\, in this senior theatrical sensation.\nSenior Moments is a comedy revue with a deliciously funny and fresh collection of comic sketches and songs performed by a cast who are old enough to know better.\nGold Logie winner John Wood (Blue Heelers\, Rafferty’s Rules)\, Play School icon Benita Collings\, master satirist Max Gillies (The Gillies Report) with former Channel 9 Midday maestro Geoff Harvey on piano\, all combine to deliver a somewhat silly show for otherwise sensible seniors.\nSenior Moments: a seriously funny revue for slightly old people. (That’s you. Be honest.) \nWe advise to book NOW on line or if you do not have online facilities\, contact Robyn. Cost is for Concession Card Holders. \n
URL:http://wyongnationalseniors.org.au/index.php/event/enoy-a-saturday-afternoon-at-the-wyong-arthouse/
LOCATION:Wyong Art House\, 19-21 Margaret Street\, Wyong\, NSW\, 2259\, Australia
CATEGORIES:Movie/Theatre Group
ATTACH;FMTTYPE=image/jpeg:http://wyongnationalseniors.org.au/wp/wp-content/uploads/2018/11/Senior-moments-Feb-2019.jpg
END:VEVENT
BEGIN:VEVENT
DTSTART;TZID=Australia/Sydney:20190204T113000
DTEND;TZID=Australia/Sydney:20190204T140000
DTSTAMP:20190228T074940
CREATED:20190118T040655Z
LAST-MODIFIED:20190118T040656Z
UID:2991-1549279800-1549288800@wyongnationalseniors.org.au
SUMMARY: First Monday Lunch -  February
DESCRIPTION:This will be held at Wallarah Bay Recreation Club. \nPlease put your name on the list at the January General Meeting. \n
URL:http://wyongnationalseniors.org.au/index.php/event/first-monday-lunch-february/
LOCATION:Wallarah Bay Recreation Club\, 40 Wallarah Road\, \, Gorokan\, NSW\, 2263\, Australia
CATEGORIES:First Monday Lunch
ATTACH;FMTTYPE=image/png:http://wyongnationalseniors.org.au/wp/wp-content/uploads/2019/01/Wallarah-Bay.png
END:VEVENT
BEGIN:VEVENT
DTSTART;TZID=Australia/Sydney:20190213T100000
DTEND;TZID=Australia/Sydney:20190213T123000
DTSTAMP:20190228T074940
CREATED:20190118T044958Z
LAST-MODIFIED:20190118T044958Z
UID:3004-1550052000-1550061000@wyongnationalseniors.org.au
SUMMARY:Theatre Group - Me and My Shadow
DESCRIPTION:Well-known stage and television entertainer\, Tim Maddren salutes the great saloon singers; Frank Sinatra\, Sammy Davis Jr. and Bobby Darin.\nMaddren and his pianist\, Russell Dick\, perform many of the great saloon classics such as Mack the Knife\, Mr Bojangles and New York\, New York.\nThis intimate experience recreates the sounds\, style and performance techniques that transformed the great saloon singers into the legends they have remained.\nTim Maddren is recognised internationally as a former member of Hi-5. With the group\, he was a double TV Week Logie and ARIA nominee.\nTim has played major and leading roles in numerous Australian stage production’s\, Fiddler on the Roof\, Bonnie Lythgoe’s Peter Pan & Tinkerbell and Cinderella\, Dream Lover – The Bobby Darin Musical\, Altar Boyz\, The Rocky Horror Show and The Addams Family Musical.\nMe & My Shadow has already had two SELL OUT seasons in both at the Studio in The Glasshouse Theatre (Port Macquarie) and The Basement at the Gold Coast Arts Centre. \nMorning tea at 10 am\, show at 11 am. See Robyn at the tea break if interested. \n
URL:http://wyongnationalseniors.org.au/index.php/event/theatre-group-me-and-my-shadow/
LOCATION:Laycock Theatre\, Laycock Street\, North Gosford\, NSW\, 2250\, Australia
CATEGORIES:Movie/Theatre Group
ATTACH;FMTTYPE=image/jpeg:http://wyongnationalseniors.org.au/wp/wp-content/uploads/2019/01/Me-and-My-shadow-feb-2019-e1547786621267.jpg
END:VEVENT
BEGIN:VEVENT
DTSTART;TZID=Australia/Sydney:20190220T113000
DTEND;TZID=Australia/Sydney:20190220T143000
DTSTAMP:20190228T074940
CREATED:20190118T051556Z
LAST-MODIFIED:20190118T051556Z
UID:3010-1550662200-1550673000@wyongnationalseniors.org.au
SUMMARY:Ourimbah RSL Club Lunch
DESCRIPTION:A good choice of entrees\, main meals and sweets. \nMaybe\, after lunch you would like to visit Lee Rowan’s Garden World\, close by at 72 Pacific Highway\, Ourimbah. They stock a variety of rare and unusual plants\, succulents\, aquatic plants\, palms bamboos etc. Good coffee shop there as well. very pleasant surroundings. \nLeave your name at the Social Table at the January General Meeting. Payment on the day. \n
URL:http://wyongnationalseniors.org.au/index.php/event/ourimbah-rsl-club-lunch/
LOCATION:Ourimbah RSL\, 6 Pacific Highway\, Ourimbah\, NSW\, 2261\, Australia
ATTACH;FMTTYPE=image/jpeg:http://wyongnationalseniors.org.au/wp/wp-content/uploads/2019/01/Ourimba-RSL-Feb-2019.jpg
END:VEVENT
BEGIN:VEVENT
DTSTART;TZID=Australia/Sydney:20190226T140000
DTEND;TZID=Australia/Sydney:20190226T160000
DTSTAMP:20190228T074940
CREATED:20181128T062216Z
LAST-MODIFIED:20190113T060351Z
UID:2852-1551189600-1551196800@wyongnationalseniors.org.au
SUMMARY:General Meeting - with a Guest Speaker
DESCRIPTION:This month’s speaker will be Senior Constable Bethany Hawker from the Crime Prevention Branch of Wyong District. She is going to talk about the things\, we\, as seniors\, should be aware of and how we can look after our assets\, etc.\, \nWe feel in this day and age that this is very important for us all and we are sure we will all look forward to her talk. \nComplimentary tea/coffee and biscuits provided. \n
URL:http://wyongnationalseniors.org.au/index.php/event/general-meeting-member-interview/
LOCATION:Canton Beach Sports Club\, 11 Hibbard Street\, Toukley\, NSW\, 2263\, Australia
CATEGORIES:Speakers
ATTACH;FMTTYPE=image/jpeg:http://wyongnationalseniors.org.au/wp/wp-content/uploads/2019/01/police-home-security-Feb-19.jpg
END:VEVENT
BEGIN:VEVENT
DTSTART;TZID=Australia/Sydney:20190227T100000
DTEND;TZID=Australia/Sydney:20190227T123000
DTSTAMP:20190228T074940
CREATED:20190223T041132Z
LAST-MODIFIED:20190223T041545Z
UID:3363-1551261600-1551270600@wyongnationalseniors.org.au
SUMMARY:Movie Group - Stan and Ollie
DESCRIPTION:Laurel and Hardy\, the world’s most famous comedy duo\, attempt to reignite their film careers as they embark on what becomes their swan song – a grueling theatre tour of post-war Britain.  \nMorning tea at 10am followed by free raffle prizes and the movie at 10.30am. \n
URL:http://wyongnationalseniors.org.au/index.php/event/movie-group-stan-and-ollie/
LOCATION:Event Cinema\, Westfield Shopping Centre\, Tuggerah\, NSW\, 2259\, Australia
CATEGORIES:Movie/Theatre Group
ATTACH;FMTTYPE=image/png:http://wyongnationalseniors.org.au/wp/wp-content/uploads/2019/02/Movie-Group-Stan-and-Ollie-February-2019-e1550895301445.png
END:VEVENT
END:VCALENDAR